BEGIN:VCALENDAR
VERSION:2.0
PRODID:-//Goldgrube//myauktion.com//AT
CALSCALE:GREGORIAN
BEGIN:VEVENT
DTSTART:20260508T092000
DTEND:20260508T092030
LOCATION:Gewerbepark 13, 8562 Mooskirchen
DTSTAMP:20260425T015301
SUMMARY:MyAuktion: Ablauf Artikel Nr. 957704 Centra 24 care Premium Waschsoda 1700g 
URL;VALUE=URI:https://www.myauktion.com/versteigerung7671-position2445973-centra-24-care-premium-waschsoda-1700g.php
DESCRIPTION:
UID:myauktion-7671-2445973
BEGIN:VALARM
ACTION:DISPLAY
DESCRIPTION:
TRIGGER:-PT10M
END:VALARM
END:VEVENT
END:VCALENDAR