BEGIN:VCALENDAR
VERSION:2.0
PRODID:-//Goldgrube//myauktion.com//AT
CALSCALE:GREGORIAN
BEGIN:VEVENT
DTSTART:20260508T130400
DTEND:20260508T130430
LOCATION:Gewerbepark 13, 8562 Mooskirchen
DTSTAMP:20260424T222209
SUMMARY:MyAuktion: Ablauf Artikel Nr. 958486 DenkMit diverse Reiniger je 1L
URL;VALUE=URI:https://www.myauktion.com/versteigerung7671-position2445977-denkmit-diverse-reiniger-je-1l.php
DESCRIPTION:
UID:myauktion-7671-2445977
BEGIN:VALARM
ACTION:DISPLAY
DESCRIPTION:
TRIGGER:-PT10M
END:VALARM
END:VEVENT
END:VCALENDAR