BEGIN:VCALENDAR
VERSION:2.0
PRODID:-//Goldgrube//myauktion.com//AT
CALSCALE:GREGORIAN
BEGIN:VEVENT
DTSTART:20260508T092500
DTEND:20260508T092530
LOCATION:Gewerbepark 13, 8562 Mooskirchen
DTSTAMP:20260425T015258
SUMMARY:MyAuktion: Ablauf Artikel Nr. 957707 Finisch Glanz&Klarspüler 800ml
URL;VALUE=URI:https://www.myauktion.com/versteigerung7671-position2445978-finisch-glanz-38klarspueler-800ml.php
DESCRIPTION:
UID:myauktion-7671-2445978
BEGIN:VALARM
ACTION:DISPLAY
DESCRIPTION:
TRIGGER:-PT10M
END:VALARM
END:VEVENT
END:VCALENDAR