BEGIN:VCALENDAR
VERSION:2.0
PRODID:-//Goldgrube//myauktion.com//AT
CALSCALE:GREGORIAN
BEGIN:VEVENT
DTSTART:20260508T104100
DTEND:20260508T104130
LOCATION:Gewerbepark 13, 8562 Mooskirchen
DTSTAMP:20260425T015259
SUMMARY:MyAuktion: Ablauf Artikel Nr. 957975 DanKlorix Hygiene Reiniger 3x1,5l 
URL;VALUE=URI:https://www.myauktion.com/versteigerung7671-position2445979-danklorix-hygiene-reiniger-3x15l.php
DESCRIPTION:
UID:myauktion-7671-2445979
BEGIN:VALARM
ACTION:DISPLAY
DESCRIPTION:
TRIGGER:-PT10M
END:VALARM
END:VEVENT
END:VCALENDAR