BEGIN:VCALENDAR
VERSION:2.0
PRODID:-//Goldgrube//myauktion.com//AT
CALSCALE:GREGORIAN
BEGIN:VEVENT
DTSTART:20260508T111900
DTEND:20260508T111930
LOCATION:Gewerbepark 13, 8562 Mooskirchen
DTSTAMP:20260425T015257
SUMMARY:MyAuktion: Ablauf Artikel Nr. 958219 Denk mit Spezial Salz je 2kg 
URL;VALUE=URI:https://www.myauktion.com/versteigerung7671-position2445980-denk-mit-spezial-salz-je-2kg.php
DESCRIPTION:
UID:myauktion-7671-2445980
BEGIN:VALARM
ACTION:DISPLAY
DESCRIPTION:
TRIGGER:-PT10M
END:VALARM
END:VEVENT
END:VCALENDAR