BEGIN:VCALENDAR
VERSION:2.0
PRODID:-//Goldgrube//myauktion.com//AT
CALSCALE:GREGORIAN
BEGIN:VEVENT
DTSTART:20260508T112000
DTEND:20260508T112030
LOCATION:Gewerbepark 13, 8562 Mooskirchen
DTSTAMP:20260424T172645
SUMMARY:MyAuktion: Ablauf Artikel Nr. 958220 Frosch Baby Waschmittel je 1,5L 
URL;VALUE=URI:https://www.myauktion.com/versteigerung7671-position2445982-frosch-baby-waschmittel-je-15l.php
DESCRIPTION:
UID:myauktion-7671-2445982
BEGIN:VALARM
ACTION:DISPLAY
DESCRIPTION:
TRIGGER:-PT10M
END:VALARM
END:VEVENT
END:VCALENDAR