BEGIN:VCALENDAR
VERSION:2.0
PRODID:-//Goldgrube//myauktion.com//AT
CALSCALE:GREGORIAN
BEGIN:VEVENT
DTSTART:20260508T112200
DTEND:20260508T112230
LOCATION:Gewerbepark 13, 8562 Mooskirchen
DTSTAMP:20260425T015246
SUMMARY:MyAuktion: Ablauf Artikel Nr. 958222 Somat Classic Power 64Tabe Zitronen Frische 
URL;VALUE=URI:https://www.myauktion.com/versteigerung7671-position2445986-somat-classic-power-64tabe-zitronen-frische.php
DESCRIPTION:
UID:myauktion-7671-2445986
BEGIN:VALARM
ACTION:DISPLAY
DESCRIPTION:
TRIGGER:-PT10M
END:VALARM
END:VEVENT
END:VCALENDAR