BEGIN:VCALENDAR
VERSION:2.0
PRODID:-//Goldgrube//myauktion.com//AT
CALSCALE:GREGORIAN
BEGIN:VEVENT
DTSTART:20260508T112400
DTEND:20260508T112430
LOCATION:Gewerbepark 13, 8562 Mooskirchen
DTSTAMP:20260424T144438
SUMMARY:MyAuktion: Ablauf Artikel Nr. 958223 Frosch baby Wäsche-weich je 750ml 
URL;VALUE=URI:https://www.myauktion.com/versteigerung7671-position2445988-frosch-baby-waesche-weich-je-750ml.php
DESCRIPTION:
UID:myauktion-7671-2445988
BEGIN:VALARM
ACTION:DISPLAY
DESCRIPTION:
TRIGGER:-PT10M
END:VALARM
END:VEVENT
END:VCALENDAR