BEGIN:VCALENDAR
VERSION:2.0
PRODID:-//Goldgrube//myauktion.com//AT
CALSCALE:GREGORIAN
BEGIN:VEVENT
DTSTART:20260508T112500
DTEND:20260508T112530
LOCATION:Gewerbepark 13, 8562 Mooskirchen
DTSTAMP:20260424T145528
SUMMARY:MyAuktion: Ablauf Artikel Nr. 958224 Frosch baby Vorwasch Spray je 300ml 
URL;VALUE=URI:https://www.myauktion.com/versteigerung7671-position2445990-frosch-baby-vorwasch-spray-je-300ml.php
DESCRIPTION:
UID:myauktion-7671-2445990
BEGIN:VALARM
ACTION:DISPLAY
DESCRIPTION:
TRIGGER:-PT10M
END:VALARM
END:VEVENT
END:VCALENDAR