BEGIN:VCALENDAR
VERSION:2.0
PRODID:-//Goldgrube//myauktion.com//AT
CALSCALE:GREGORIAN
BEGIN:VEVENT
DTSTART:20260508T130600
DTEND:20260508T130630
LOCATION:Gewerbepark 13, 8562 Mooskirchen
DTSTAMP:20260424T134754
SUMMARY:MyAuktion: Ablauf Artikel Nr. 958488 Diverse DenkMit Reiniger je 1L & 750ml
URL;VALUE=URI:https://www.myauktion.com/versteigerung7671-position2445991-diverse-denkmit-reiniger-je-1l-38-750ml.php
DESCRIPTION:
UID:myauktion-7671-2445991
BEGIN:VALARM
ACTION:DISPLAY
DESCRIPTION:
TRIGGER:-PT10M
END:VALARM
END:VEVENT
END:VCALENDAR