BEGIN:VCALENDAR
VERSION:2.0
PRODID:-//Goldgrube//myauktion.com//AT
CALSCALE:GREGORIAN
BEGIN:VEVENT
DTSTART:20260508T112600
DTEND:20260508T112630
LOCATION:Gewerbepark 13, 8562 Mooskirchen
DTSTAMP:20260424T172645
SUMMARY:MyAuktion: Ablauf Artikel Nr. 958225 Frosch baby Spül-Reiniger je 500ml 
URL;VALUE=URI:https://www.myauktion.com/versteigerung7671-position2445992-frosch-baby-spuel-reiniger-je-500ml.php
DESCRIPTION:
UID:myauktion-7671-2445992
BEGIN:VALARM
ACTION:DISPLAY
DESCRIPTION:
TRIGGER:-PT10M
END:VALARM
END:VEVENT
END:VCALENDAR