BEGIN:VCALENDAR
VERSION:2.0
PRODID:-//Goldgrube//myauktion.com//AT
CALSCALE:GREGORIAN
BEGIN:VEVENT
DTSTART:20260508T104300
DTEND:20260508T104330
LOCATION:Gewerbepark 13, 8562 Mooskirchen
DTSTAMP:20260425T015303
SUMMARY:MyAuktion: Ablauf Artikel Nr. 957977 Hornbach Destilliertes Wasser 3x5l 
URL;VALUE=URI:https://www.myauktion.com/versteigerung7671-position2445993-hornbach-destilliertes-wasser-3x5l.php
DESCRIPTION:
UID:myauktion-7671-2445993
BEGIN:VALARM
ACTION:DISPLAY
DESCRIPTION:
TRIGGER:-PT10M
END:VALARM
END:VEVENT
END:VCALENDAR