BEGIN:VCALENDAR
VERSION:2.0
PRODID:-//Goldgrube//myauktion.com//AT
CALSCALE:GREGORIAN
BEGIN:VEVENT
DTSTART:20260508T130700
DTEND:20260508T130730
LOCATION:Gewerbepark 13, 8562 Mooskirchen
DTSTAMP:20260424T152128
SUMMARY:MyAuktion: Ablauf Artikel Nr. 958489 Frosch diverse Reiniger je 750ml & 500ml
URL;VALUE=URI:https://www.myauktion.com/versteigerung7671-position2445994-frosch-diverse-reiniger-je-750ml-38-500ml.php
DESCRIPTION:
UID:myauktion-7671-2445994
BEGIN:VALARM
ACTION:DISPLAY
DESCRIPTION:
TRIGGER:-PT10M
END:VALARM
END:VEVENT
END:VCALENDAR