BEGIN:VCALENDAR
VERSION:2.0
PRODID:-//Goldgrube//myauktion.com//AT
CALSCALE:GREGORIAN
BEGIN:VEVENT
DTSTART:20260508T112700
DTEND:20260508T112730
LOCATION:Gewerbepark 13, 8562 Mooskirchen
DTSTAMP:20260424T222215
SUMMARY:MyAuktion: Ablauf Artikel Nr. 958226 Silan Pure Frische Weichspüler je 1100ml 
URL;VALUE=URI:https://www.myauktion.com/versteigerung7671-position2445995-silan-pure-frische-weichspueler-je-1100ml.php
DESCRIPTION:
UID:myauktion-7671-2445995
BEGIN:VALARM
ACTION:DISPLAY
DESCRIPTION:
TRIGGER:-PT10M
END:VALARM
END:VEVENT
END:VCALENDAR