BEGIN:VCALENDAR
VERSION:2.0
PRODID:-//Goldgrube//myauktion.com//AT
CALSCALE:GREGORIAN
BEGIN:VEVENT
DTSTART:20260508T092900
DTEND:20260508T092930
LOCATION:Gewerbepark 13, 8562 Mooskirchen
DTSTAMP:20260425T015246
SUMMARY:MyAuktion: Ablauf Artikel Nr. 957711 Lacinia Shampoo 400ml , Hair care cream 190ml , Shampoo 250ml 
URL;VALUE=URI:https://www.myauktion.com/versteigerung7671-position2445996-lacinia-shampoo-400ml--hair-care-cream-190ml--shampoo-250ml.php
DESCRIPTION:
UID:myauktion-7671-2445996
BEGIN:VALARM
ACTION:DISPLAY
DESCRIPTION:
TRIGGER:-PT10M
END:VALARM
END:VEVENT
END:VCALENDAR