BEGIN:VCALENDAR
VERSION:2.0
PRODID:-//Goldgrube//myauktion.com//AT
CALSCALE:GREGORIAN
BEGIN:VEVENT
DTSTART:20260508T130800
DTEND:20260508T130830
LOCATION:Gewerbepark 13, 8562 Mooskirchen
DTSTAMP:20260424T222208
SUMMARY:MyAuktion: Ablauf Artikel Nr. 958490 Frosch diverse Reiniger je 1000ml & 500ml
URL;VALUE=URI:https://www.myauktion.com/versteigerung7671-position2446004-frosch-diverse-reiniger-je-1000ml-38-500ml.php
DESCRIPTION:
UID:myauktion-7671-2446004
BEGIN:VALARM
ACTION:DISPLAY
DESCRIPTION:
TRIGGER:-PT10M
END:VALARM
END:VEVENT
END:VCALENDAR