BEGIN:VCALENDAR
VERSION:2.0
PRODID:-//Goldgrube//myauktion.com//AT
CALSCALE:GREGORIAN
BEGIN:VEVENT
DTSTART:20260508T093400
DTEND:20260508T093430
LOCATION:Gewerbepark 13, 8562 Mooskirchen
DTSTAMP:20260425T015305
SUMMARY:MyAuktion: Ablauf Artikel Nr. 957714 Adamol Destilliertes  Wasser 5.02l 
URL;VALUE=URI:https://www.myauktion.com/versteigerung7671-position2446005-adamol-destilliertes-wasser-502l.php
DESCRIPTION:
UID:myauktion-7671-2446005
BEGIN:VALARM
ACTION:DISPLAY
DESCRIPTION:
TRIGGER:-PT10M
END:VALARM
END:VEVENT
END:VCALENDAR