BEGIN:VCALENDAR
VERSION:2.0
PRODID:-//Goldgrube//myauktion.com//AT
CALSCALE:GREGORIAN
BEGIN:VEVENT
DTSTART:20260508T104500
DTEND:20260508T104530
LOCATION:Gewerbepark 13, 8562 Mooskirchen
DTSTAMP:20260425T015259
SUMMARY:MyAuktion: Ablauf Artikel Nr. 957979 Cif Bad und Dusche 2x750ml 
URL;VALUE=URI:https://www.myauktion.com/versteigerung7671-position2446006-cif-bad-und-dusche-2x750ml.php
DESCRIPTION:
UID:myauktion-7671-2446006
BEGIN:VALARM
ACTION:DISPLAY
DESCRIPTION:
TRIGGER:-PT10M
END:VALARM
END:VEVENT
END:VCALENDAR