BEGIN:VCALENDAR
VERSION:2.0
PRODID:-//Goldgrube//myauktion.com//AT
CALSCALE:GREGORIAN
BEGIN:VEVENT
DTSTART:20260508T113200
DTEND:20260508T113230
LOCATION:Gewerbepark 13, 8562 Mooskirchen
DTSTAMP:20260424T222211
SUMMARY:MyAuktion: Ablauf Artikel Nr. 958231 Diverse Frosch Reiniger 4x500ml 
URL;VALUE=URI:https://www.myauktion.com/versteigerung7671-position2446007-diverse-frosch-reiniger-4x500ml.php
DESCRIPTION:
UID:myauktion-7671-2446007
BEGIN:VALARM
ACTION:DISPLAY
DESCRIPTION:
TRIGGER:-PT10M
END:VALARM
END:VEVENT
END:VCALENDAR