BEGIN:VCALENDAR
VERSION:2.0
PRODID:-//Goldgrube//myauktion.com//AT
CALSCALE:GREGORIAN
BEGIN:VEVENT
DTSTART:20260508T113300
DTEND:20260508T113330
LOCATION:Gewerbepark 13, 8562 Mooskirchen
DTSTAMP:20260424T222212
SUMMARY:MyAuktion: Ablauf Artikel Nr. 958232 Frosch Baby Reiniger 2x500ml 1x1,452kg 
URL;VALUE=URI:https://www.myauktion.com/versteigerung7671-position2446010-frosch-baby-reiniger-2x500ml-1x1452kg.php
DESCRIPTION:
UID:myauktion-7671-2446010
BEGIN:VALARM
ACTION:DISPLAY
DESCRIPTION:
TRIGGER:-PT10M
END:VALARM
END:VEVENT
END:VCALENDAR