BEGIN:VCALENDAR
VERSION:2.0
PRODID:-//Goldgrube//myauktion.com//AT
CALSCALE:GREGORIAN
BEGIN:VEVENT
DTSTART:20260508T104700
DTEND:20260508T104730
LOCATION:Gewerbepark 13, 8562 Mooskirchen
DTSTAMP:20260425T015255
SUMMARY:MyAuktion: Ablauf Artikel Nr. 957981 Hornbach Destilliertes Wasser 2x5l 
URL;VALUE=URI:https://www.myauktion.com/versteigerung7671-position2446016-hornbach-destilliertes-wasser-2x5l.php
DESCRIPTION:
UID:myauktion-7671-2446016
BEGIN:VALARM
ACTION:DISPLAY
DESCRIPTION:
TRIGGER:-PT10M
END:VALARM
END:VEVENT
END:VCALENDAR