BEGIN:VCALENDAR
VERSION:2.0
PRODID:-//Goldgrube//myauktion.com//AT
CALSCALE:GREGORIAN
BEGIN:VEVENT
DTSTART:20260508T113600
DTEND:20260508T113630
LOCATION:Gewerbepark 13, 8562 Mooskirchen
DTSTAMP:20260424T222208
SUMMARY:MyAuktion: Ablauf Artikel Nr. 958235 Zerogreen Grünbelagentferner Turbo 1L
URL;VALUE=URI:https://www.myauktion.com/versteigerung7671-position2446017-zerogreen-gruenbelagentferner-turbo-1l.php
DESCRIPTION:
UID:myauktion-7671-2446017
BEGIN:VALARM
ACTION:DISPLAY
DESCRIPTION:
TRIGGER:-PT10M
END:VALARM
END:VEVENT
END:VCALENDAR