BEGIN:VCALENDAR
VERSION:2.0
PRODID:-//Goldgrube//myauktion.com//AT
CALSCALE:GREGORIAN
BEGIN:VEVENT
DTSTART:20260508T113700
DTEND:20260508T113730
LOCATION:Gewerbepark 13, 8562 Mooskirchen
DTSTAMP:20260424T172644
SUMMARY:MyAuktion: Ablauf Artikel Nr. 958236 Diverse Seifen 2x500ml 1x250ml 2x300ml 
URL;VALUE=URI:https://www.myauktion.com/versteigerung7671-position2446018-diverse-seifen-2x500ml-1x250ml-2x300ml.php
DESCRIPTION:
UID:myauktion-7671-2446018
BEGIN:VALARM
ACTION:DISPLAY
DESCRIPTION:
TRIGGER:-PT10M
END:VALARM
END:VEVENT
END:VCALENDAR