BEGIN:VCALENDAR
VERSION:2.0
PRODID:-//Goldgrube//myauktion.com//AT
CALSCALE:GREGORIAN
BEGIN:VEVENT
DTSTART:20260508T113800
DTEND:20260508T113830
LOCATION:Gewerbepark 13, 8562 Mooskirchen
DTSTAMP:20260424T160247
SUMMARY:MyAuktion: Ablauf Artikel Nr. 958237 Diverse WC Reiniger 2x750ml 
URL;VALUE=URI:https://www.myauktion.com/versteigerung7671-position2446021-diverse-wc-reiniger-2x750ml.php
DESCRIPTION:
UID:myauktion-7671-2446021
BEGIN:VALARM
ACTION:DISPLAY
DESCRIPTION:
TRIGGER:-PT10M
END:VALARM
END:VEVENT
END:VCALENDAR