BEGIN:VCALENDAR
VERSION:2.0
PRODID:-//Goldgrube//myauktion.com//AT
CALSCALE:GREGORIAN
BEGIN:VEVENT
DTSTART:20260508T114000
DTEND:20260508T114030
LOCATION:Gewerbepark 13, 8562 Mooskirchen
DTSTAMP:20260424T222211
SUMMARY:MyAuktion: Ablauf Artikel Nr. 958239 Bio Chem Rauchharz Entferner 500ml 
URL;VALUE=URI:https://www.myauktion.com/versteigerung7671-position2446023-bio-chem-rauchharz-entferner-500ml.php
DESCRIPTION:
UID:myauktion-7671-2446023
BEGIN:VALARM
ACTION:DISPLAY
DESCRIPTION:
TRIGGER:-PT10M
END:VALARM
END:VEVENT
END:VCALENDAR