BEGIN:VCALENDAR
VERSION:2.0
PRODID:-//Goldgrube//myauktion.com//AT
CALSCALE:GREGORIAN
BEGIN:VEVENT
DTSTART:20260508T131300
DTEND:20260508T131330
LOCATION:Gewerbepark 13, 8562 Mooskirchen
DTSTAMP:20260424T222209
SUMMARY:MyAuktion: Ablauf Artikel Nr. 958495 DenkMit Diverse WC Reiniger je 165ml & 400g
URL;VALUE=URI:https://www.myauktion.com/versteigerung7671-position2446024-denkmit-diverse-wc-reiniger-je-165ml-38-400g.php
DESCRIPTION:
UID:myauktion-7671-2446024
BEGIN:VALARM
ACTION:DISPLAY
DESCRIPTION:
TRIGGER:-PT10M
END:VALARM
END:VEVENT
END:VCALENDAR