BEGIN:VCALENDAR
VERSION:2.0
PRODID:-//Goldgrube//myauktion.com//AT
CALSCALE:GREGORIAN
BEGIN:VEVENT
DTSTART:20260508T114100
DTEND:20260508T114130
LOCATION:Gewerbepark 13, 8562 Mooskirchen
DTSTAMP:20260425T000019
SUMMARY:MyAuktion: Ablauf Artikel Nr. 958240 Diverse Weichspüler 2x882ml 1x1012ml 
URL;VALUE=URI:https://www.myauktion.com/versteigerung7671-position2446026-diverse-weichspueler-2x882ml-1x1012ml.php
DESCRIPTION:
UID:myauktion-7671-2446026
BEGIN:VALARM
ACTION:DISPLAY
DESCRIPTION:
TRIGGER:-PT10M
END:VALARM
END:VEVENT
END:VCALENDAR