BEGIN:VCALENDAR
VERSION:2.0
PRODID:-//Goldgrube//myauktion.com//AT
CALSCALE:GREGORIAN
BEGIN:VEVENT
DTSTART:20260508T114200
DTEND:20260508T114230
LOCATION:Gewerbepark 13, 8562 Mooskirchen
DTSTAMP:20260424T222215
SUMMARY:MyAuktion: Ablauf Artikel Nr. 958241 Diverse Weichspüler 2x1L 1x750ml 1x400ml 
URL;VALUE=URI:https://www.myauktion.com/versteigerung7671-position2446028-diverse-weichspueler-2x1l-1x750ml-1x400ml.php
DESCRIPTION:
UID:myauktion-7671-2446028
BEGIN:VALARM
ACTION:DISPLAY
DESCRIPTION:
TRIGGER:-PT10M
END:VALARM
END:VEVENT
END:VCALENDAR