BEGIN:VCALENDAR
VERSION:2.0
PRODID:-//Goldgrube//myauktion.com//AT
CALSCALE:GREGORIAN
BEGIN:VEVENT
DTSTART:20260508T093700
DTEND:20260508T093730
LOCATION:Gewerbepark 13, 8562 Mooskirchen
DTSTAMP:20260425T015300
SUMMARY:MyAuktion: Ablauf Artikel Nr. 957717 Denk mit Drogeriebedarf 
URL;VALUE=URI:https://www.myauktion.com/versteigerung7671-position2446030-denk-mit-drogeriebedarf.php
DESCRIPTION:
UID:myauktion-7671-2446030
BEGIN:VALARM
ACTION:DISPLAY
DESCRIPTION:
TRIGGER:-PT10M
END:VALARM
END:VEVENT
END:VCALENDAR