BEGIN:VCALENDAR
VERSION:2.0
PRODID:-//Goldgrube//myauktion.com//AT
CALSCALE:GREGORIAN
BEGIN:VEVENT
DTSTART:20260508T114500
DTEND:20260508T114530
LOCATION:Gewerbepark 13, 8562 Mooskirchen
DTSTAMP:20260424T222216
SUMMARY:MyAuktion: Ablauf Artikel Nr. 958243 Bio chem Ultraschall Reiniger Schmuck 1L 
URL;VALUE=URI:https://www.myauktion.com/versteigerung7671-position2446035-bio-chem-ultraschall-reiniger-schmuck-1l.php
DESCRIPTION:
UID:myauktion-7671-2446035
BEGIN:VALARM
ACTION:DISPLAY
DESCRIPTION:
TRIGGER:-PT10M
END:VALARM
END:VEVENT
END:VCALENDAR