BEGIN:VCALENDAR
VERSION:2.0
PRODID:-//Goldgrube//myauktion.com//AT
CALSCALE:GREGORIAN
BEGIN:VEVENT
DTSTART:20260508T105100
DTEND:20260508T105130
LOCATION:Gewerbepark 13, 8562 Mooskirchen
DTSTAMP:20260424T222210
SUMMARY:MyAuktion: Ablauf Artikel Nr. 957985 Diverse Glasreiniger 
URL;VALUE=URI:https://www.myauktion.com/versteigerung7671-position2446036-diverse-glasreiniger.php
DESCRIPTION:
UID:myauktion-7671-2446036
BEGIN:VALARM
ACTION:DISPLAY
DESCRIPTION:
TRIGGER:-PT10M
END:VALARM
END:VEVENT
END:VCALENDAR