BEGIN:VCALENDAR
VERSION:2.0
PRODID:-//Goldgrube//myauktion.com//AT
CALSCALE:GREGORIAN
BEGIN:VEVENT
DTSTART:20260508T105200
DTEND:20260508T105230
LOCATION:Gewerbepark 13, 8562 Mooskirchen
DTSTAMP:20260425T015258
SUMMARY:MyAuktion: Ablauf Artikel Nr. 957986 Diverse Flecken Sprays 
URL;VALUE=URI:https://www.myauktion.com/versteigerung7671-position2446039-diverse-flecken-sprays.php
DESCRIPTION:
UID:myauktion-7671-2446039
BEGIN:VALARM
ACTION:DISPLAY
DESCRIPTION:
TRIGGER:-PT10M
END:VALARM
END:VEVENT
END:VCALENDAR