BEGIN:VCALENDAR
VERSION:2.0
PRODID:-//Goldgrube//myauktion.com//AT
CALSCALE:GREGORIAN
BEGIN:VEVENT
DTSTART:20260508T114700
DTEND:20260508T114730
LOCATION:Gewerbepark 13, 8562 Mooskirchen
DTSTAMP:20260424T222216
SUMMARY:MyAuktion: Ablauf Artikel Nr. 958245 Diverse Reiniger 2x500ml 1x1L 1x880ml 
URL;VALUE=URI:https://www.myauktion.com/versteigerung7671-position2446040-diverse-reiniger-2x500ml-1x1l-1x880ml.php
DESCRIPTION:
UID:myauktion-7671-2446040
BEGIN:VALARM
ACTION:DISPLAY
DESCRIPTION:
TRIGGER:-PT10M
END:VALARM
END:VEVENT
END:VCALENDAR