BEGIN:VCALENDAR
VERSION:2.0
PRODID:-//Goldgrube//myauktion.com//AT
CALSCALE:GREGORIAN
BEGIN:VEVENT
DTSTART:20260508T115200
DTEND:20260508T115230
LOCATION:Gewerbepark 13, 8562 Mooskirchen
DTSTAMP:20260424T172645
SUMMARY:MyAuktion: Ablauf Artikel Nr. 958249 Fairy Platinum Plus all in one 48Caps 
URL;VALUE=URI:https://www.myauktion.com/versteigerung7671-position2446048-fairy-platinum-plus-all-in-one-48caps.php
DESCRIPTION:
UID:myauktion-7671-2446048
BEGIN:VALARM
ACTION:DISPLAY
DESCRIPTION:
TRIGGER:-PT10M
END:VALARM
END:VEVENT
END:VCALENDAR