BEGIN:VCALENDAR
VERSION:2.0
PRODID:-//Goldgrube//myauktion.com//AT
CALSCALE:GREGORIAN
BEGIN:VEVENT
DTSTART:20260508T094500
DTEND:20260508T094530
LOCATION:Gewerbepark 13, 8562 Mooskirchen
DTSTAMP:20260425T015302
SUMMARY:MyAuktion: Ablauf Artikel Nr. 957722 Persil Expert Frrshness Waschpulver 2.97kg 
URL;VALUE=URI:https://www.myauktion.com/versteigerung7671-position2446052-persil-expert-frrshness-waschpulver-297kg.php
DESCRIPTION:Verpackung verschmutzt 
UID:myauktion-7671-2446052
BEGIN:VALARM
ACTION:DISPLAY
DESCRIPTION:Verpackung verschmutzt 
TRIGGER:-PT10M
END:VALARM
END:VEVENT
END:VCALENDAR