BEGIN:VCALENDAR
VERSION:2.0
PRODID:-//Goldgrube//myauktion.com//AT
CALSCALE:GREGORIAN
BEGIN:VEVENT
DTSTART:20260508T115400
DTEND:20260508T115430
LOCATION:Gewerbepark 13, 8562 Mooskirchen
DTSTAMP:20260425T015302
SUMMARY:MyAuktion: Ablauf Artikel Nr. 958251 Fairy Original All in one 71Caps 
URL;VALUE=URI:https://www.myauktion.com/versteigerung7671-position2446053-fairy-original-all-in-one-71caps.php
DESCRIPTION:
UID:myauktion-7671-2446053
BEGIN:VALARM
ACTION:DISPLAY
DESCRIPTION:
TRIGGER:-PT10M
END:VALARM
END:VEVENT
END:VCALENDAR