BEGIN:VCALENDAR
VERSION:2.0
PRODID:-//Goldgrube//myauktion.com//AT
CALSCALE:GREGORIAN
BEGIN:VEVENT
DTSTART:20260508T105400
DTEND:20260508T105430
LOCATION:Gewerbepark 13, 8562 Mooskirchen
DTSTAMP:20260424T160242
SUMMARY:MyAuktion: Ablauf Artikel Nr. 957988 Persil Expert Waschmittel 1,35l 
URL;VALUE=URI:https://www.myauktion.com/versteigerung7671-position2446055-persil-expert-waschmittel-135l.php
DESCRIPTION:
UID:myauktion-7671-2446055
BEGIN:VALARM
ACTION:DISPLAY
DESCRIPTION:
TRIGGER:-PT10M
END:VALARM
END:VEVENT
END:VCALENDAR