BEGIN:VCALENDAR
VERSION:2.0
PRODID:-//Goldgrube//myauktion.com//AT
CALSCALE:GREGORIAN
BEGIN:VEVENT
DTSTART:20260508T094700
DTEND:20260508T094730
LOCATION:Gewerbepark 13, 8562 Mooskirchen
DTSTAMP:20260425T015259
SUMMARY:MyAuktion: Ablauf Artikel Nr. 957724 Silan Sensitiv 1x 2860ml , 1x1100ml
URL;VALUE=URI:https://www.myauktion.com/versteigerung7671-position2446060-silan-sensitiv-1x-2860ml--1x1100ml.php
DESCRIPTION:
UID:myauktion-7671-2446060
BEGIN:VALARM
ACTION:DISPLAY
DESCRIPTION:
TRIGGER:-PT10M
END:VALARM
END:VEVENT
END:VCALENDAR