BEGIN:VCALENDAR
VERSION:2.0
PRODID:-//Goldgrube//myauktion.com//AT
CALSCALE:GREGORIAN
BEGIN:VEVENT
DTSTART:20260508T115900
DTEND:20260508T115930
LOCATION:Gewerbepark 13, 8562 Mooskirchen
DTSTAMP:20260425T044440
SUMMARY:MyAuktion: Ablauf Artikel Nr. 958255 Persil Expert sensitive 2,7L 
URL;VALUE=URI:https://www.myauktion.com/versteigerung7671-position2446064-persil-expert-sensitive-27l.php
DESCRIPTION:
UID:myauktion-7671-2446064
BEGIN:VALARM
ACTION:DISPLAY
DESCRIPTION:
TRIGGER:-PT10M
END:VALARM
END:VEVENT
END:VCALENDAR