BEGIN:VCALENDAR
VERSION:2.0
PRODID:-//Goldgrube//myauktion.com//AT
CALSCALE:GREGORIAN
BEGIN:VEVENT
DTSTART:20260508T120100
DTEND:20260508T120130
LOCATION:Gewerbepark 13, 8562 Mooskirchen
DTSTAMP:20260424T222216
SUMMARY:MyAuktion: Ablauf Artikel Nr. 958257 Drano Küchel Gel Rohrfrei 1L 
URL;VALUE=URI:https://www.myauktion.com/versteigerung7671-position2446069-drano-kuechel-gel-rohrfrei-1l.php
DESCRIPTION:Verpackung verschmutzt  
UID:myauktion-7671-2446069
BEGIN:VALARM
ACTION:DISPLAY
DESCRIPTION:Verpackung verschmutzt  
TRIGGER:-PT10M
END:VALARM
END:VEVENT
END:VCALENDAR