BEGIN:VCALENDAR
VERSION:2.0
PRODID:-//Goldgrube//myauktion.com//AT
CALSCALE:GREGORIAN
BEGIN:VEVENT
DTSTART:20260508T105700
DTEND:20260508T105730
LOCATION:Gewerbepark 13, 8562 Mooskirchen
DTSTAMP:20260424T222217
SUMMARY:MyAuktion: Ablauf Artikel Nr. 957990 Bonalin AS-2000 Sanitärreiniger 10l
URL;VALUE=URI:https://www.myauktion.com/versteigerung7671-position2446072-bonalin-as-2000-sanitaerreiniger-10l.php
DESCRIPTION:
UID:myauktion-7671-2446072
BEGIN:VALARM
ACTION:DISPLAY
DESCRIPTION:
TRIGGER:-PT10M
END:VALARM
END:VEVENT
END:VCALENDAR