BEGIN:VCALENDAR
VERSION:2.0
PRODID:-//Goldgrube//myauktion.com//AT
CALSCALE:GREGORIAN
BEGIN:VEVENT
DTSTART:20260508T120400
DTEND:20260508T120430
LOCATION:Gewerbepark 13, 8562 Mooskirchen
DTSTAMP:20260424T222217
SUMMARY:MyAuktion: Ablauf Artikel Nr. 958259 NatuGena MikroVeda Life 1000ml 
URL;VALUE=URI:https://www.myauktion.com/versteigerung7671-position2446076-natugena-mikroveda-life-1000ml.php
DESCRIPTION:MHD 01.09.2027 
UID:myauktion-7671-2446076
BEGIN:VALARM
ACTION:DISPLAY
DESCRIPTION:MHD 01.09.2027 
TRIGGER:-PT10M
END:VALARM
END:VEVENT
END:VCALENDAR