BEGIN:VCALENDAR
VERSION:2.0
PRODID:-//Goldgrube//myauktion.com//AT
CALSCALE:GREGORIAN
BEGIN:VEVENT
DTSTART:20260508T095300
DTEND:20260508T095330
LOCATION:Gewerbepark 13, 8562 Mooskirchen
DTSTAMP:20260425T015301
SUMMARY:MyAuktion: Ablauf Artikel Nr. 957730 R.fect Flächendesinfektion 5l
URL;VALUE=URI:https://www.myauktion.com/versteigerung7671-position2446077-rfect-flaechendesinfektion-5l.php
DESCRIPTION:
UID:myauktion-7671-2446077
BEGIN:VALARM
ACTION:DISPLAY
DESCRIPTION:
TRIGGER:-PT10M
END:VALARM
END:VEVENT
END:VCALENDAR