BEGIN:VCALENDAR
VERSION:2.0
PRODID:-//Goldgrube//myauktion.com//AT
CALSCALE:GREGORIAN
BEGIN:VEVENT
DTSTART:20260508T120700
DTEND:20260508T120730
LOCATION:Gewerbepark 13, 8562 Mooskirchen
DTSTAMP:20260424T222206
SUMMARY:MyAuktion: Ablauf Artikel Nr. 958261 Gello Ultraschallgel 1L 
URL;VALUE=URI:https://www.myauktion.com/versteigerung7671-position2446081-gello-ultraschallgel-1l.php
DESCRIPTION:MHD 06.2028 
UID:myauktion-7671-2446081
BEGIN:VALARM
ACTION:DISPLAY
DESCRIPTION:MHD 06.2028 
TRIGGER:-PT10M
END:VALARM
END:VEVENT
END:VCALENDAR