BEGIN:VCALENDAR
VERSION:2.0
PRODID:-//Goldgrube//myauktion.com//AT
CALSCALE:GREGORIAN
BEGIN:VEVENT
DTSTART:20260508T132600
DTEND:20260508T132630
LOCATION:Gewerbepark 13, 8562 Mooskirchen
DTSTAMP:20260424T135656
SUMMARY:MyAuktion: Ablauf Artikel Nr. 958506 WC Frisch Kraft Aktiv je 750ml
URL;VALUE=URI:https://www.myauktion.com/versteigerung7671-position2446082-wc-frisch-kraft-aktiv-je-750ml.php
DESCRIPTION:
UID:myauktion-7671-2446082
BEGIN:VALARM
ACTION:DISPLAY
DESCRIPTION:
TRIGGER:-PT10M
END:VALARM
END:VEVENT
END:VCALENDAR