BEGIN:VCALENDAR
VERSION:2.0
PRODID:-//Goldgrube//myauktion.com//AT
CALSCALE:GREGORIAN
BEGIN:VEVENT
DTSTART:20260508T095600
DTEND:20260508T095630
LOCATION:Gewerbepark 13, 8562 Mooskirchen
DTSTAMP:20260424T144438
SUMMARY:MyAuktion: Ablauf Artikel Nr. 957732 Ariel Universal+ Waschmittel 4500ml
URL;VALUE=URI:https://www.myauktion.com/versteigerung7671-position2446083-ariel-universal-waschmittel-4500ml.php
DESCRIPTION:
UID:myauktion-7671-2446083
BEGIN:VALARM
ACTION:DISPLAY
DESCRIPTION:
TRIGGER:-PT10M
END:VALARM
END:VEVENT
END:VCALENDAR