BEGIN:VCALENDAR
VERSION:2.0
PRODID:-//Goldgrube//myauktion.com//AT
CALSCALE:GREGORIAN
BEGIN:VEVENT
DTSTART:20260508T095700
DTEND:20260508T095730
LOCATION:Gewerbepark 13, 8562 Mooskirchen
DTSTAMP:20260425T015304
SUMMARY:MyAuktion: Ablauf Artikel Nr. 957733 Weißer Riese Color Gel 4.5l
URL;VALUE=URI:https://www.myauktion.com/versteigerung7671-position2446085-weisser-riese-color-gel-45l.php
DESCRIPTION:
UID:myauktion-7671-2446085
BEGIN:VALARM
ACTION:DISPLAY
DESCRIPTION:
TRIGGER:-PT10M
END:VALARM
END:VEVENT
END:VCALENDAR