BEGIN:VCALENDAR
VERSION:2.0
PRODID:-//Goldgrube//myauktion.com//AT
CALSCALE:GREGORIAN
BEGIN:VEVENT
DTSTART:20260508T132700
DTEND:20260508T132730
LOCATION:Gewerbepark 13, 8562 Mooskirchen
DTSTAMP:20260424T172645
SUMMARY:MyAuktion: Ablauf Artikel Nr. 958507 DenkMit Wäsche Hygienespüler diverse Sorten je 1,5L
URL;VALUE=URI:https://www.myauktion.com/versteigerung7671-position2446087-denkmit-waesche-hygienespueler-diverse-sorten-je-15l.php
DESCRIPTION:
UID:myauktion-7671-2446087
BEGIN:VALARM
ACTION:DISPLAY
DESCRIPTION:
TRIGGER:-PT10M
END:VALARM
END:VEVENT
END:VCALENDAR