BEGIN:VCALENDAR
VERSION:2.0
PRODID:-//Goldgrube//myauktion.com//AT
CALSCALE:GREGORIAN
BEGIN:VEVENT
DTSTART:20260508T121200
DTEND:20260508T121230
LOCATION:Gewerbepark 13, 8562 Mooskirchen
DTSTAMP:20260424T165431
SUMMARY:MyAuktion: Ablauf Artikel Nr. 958266 Bio Chem Spülwasser Zusatz 1000ml 
URL;VALUE=URI:https://www.myauktion.com/versteigerung7671-position2446093-bio-chem-spuelwasser-zusatz-1000ml.php
DESCRIPTION:
UID:myauktion-7671-2446093
BEGIN:VALARM
ACTION:DISPLAY
DESCRIPTION:
TRIGGER:-PT10M
END:VALARM
END:VEVENT
END:VCALENDAR