BEGIN:VCALENDAR
VERSION:2.0
PRODID:-//Goldgrube//myauktion.com//AT
CALSCALE:GREGORIAN
BEGIN:VEVENT
DTSTART:20260508T095900
DTEND:20260508T095930
LOCATION:Gewerbepark 13, 8562 Mooskirchen
DTSTAMP:20260425T015302
SUMMARY:MyAuktion: Ablauf Artikel Nr. 957735 EcoVer Color Waschmittel 1.5l
URL;VALUE=URI:https://www.myauktion.com/versteigerung7671-position2446095-ecover-color-waschmittel-15l.php
DESCRIPTION:
UID:myauktion-7671-2446095
BEGIN:VALARM
ACTION:DISPLAY
DESCRIPTION:
TRIGGER:-PT10M
END:VALARM
END:VEVENT
END:VCALENDAR